BEGIN:VCALENDAR
VERSION:2.0
PRODID:-//ddaysoftware.com//NONSGML DDay.iCal 1.0//EN
BEGIN:VEVENT
DESCRIPTION:Signature Event\nAumShanti Yoga Free Your Mind Flow (Vin/Yin)\n
 Rock Royalty Terrace\n9:30am - 10:30am\n
DTEND:20260423T103000
DTSTAMP:20260423T053427
DTSTART:20260423T093000
LOCATION:Rock Royalty Terrace - 918 N Atlantic Ave.\, Daytona Beach\, Flori
 da\, 32118\, United States
SEQUENCE:0
SUMMARY:AumShanti Yoga Free Your Mind Flow (vin/Yin) 
UID:3ce91957-871d-4476-8e69-abd9e0b223b7
URL:https://hotel.hardrock.com/daytona-beach/calendar-of-events.aspx?date=4
 /23/2026&display=event&eventid=2524032
END:VEVENT
BEGIN:VEVENT
DESCRIPTION:Signature Event\nAumShanti Yoga Stairway to Savasana (Hatha)\nR
 ock Royalty Terrace\n9:30am - 10:30am
DTEND:20260424T103000
DTSTAMP:20260423T053427
DTSTART:20260424T093000
LOCATION:Rock Royalty Terrace - 918 N Atlantic Ave.\, Daytona Beach\, Flori
 da\, 32118\, United States
SEQUENCE:0
SUMMARY:AumShanti Yoga Stairway to Savasana (Hatha)
UID:c07d0158-a9e3-481e-850f-46a1a436bfc8
URL:https://hotel.hardrock.com/daytona-beach/calendar-of-events.aspx?date=4
 /24/2026&display=event&eventid=2524036
END:VEVENT
BEGIN:VEVENT
DESCRIPTION:Rock the Beach Tribute Series\nDOORS OPEN @ 7PM\nJUST PRIEST 8 
 - 9:30PM\nRAZORS EDGE 10PM - 11:30PM\n\nGet Tickets\nhttps://ROCKTHEBEACHA
 CDCTRIBUTE2026.eventbrite.com
DTEND:20260424T233000
DTSTAMP:20260423T053427
DTSTART:20260424T190000
LOCATION:Wave Terrace - 918 N Atlantic Ave.\, Daytona Beach\, Florida\, 321
 18\, United States
SEQUENCE:0
SUMMARY:Rock The Beach - Tributes to AC/DC & Judas Priest
UID:395f936a-e676-4fd9-bf88-77e05166ae04
URL:https://hotel.hardrock.com/daytona-beach/calendar-of-events.aspx?date=4
 /24/2026&display=event&eventid=2501845
END:VEVENT
BEGIN:VEVENT
DESCRIPTION:Signature Event\nAumShanti Yoga Rock Your Flow\nRock Royalty Te
 rrace\n9:30am - 10:30am
DTEND:20260425T103000
DTSTAMP:20260423T053427
DTSTART:20260425T093000
LOCATION:Rock Royalty Terrace - 918 N Atlantic Ave.\, Daytona Beach\, Flori
 da\, 32118\, United States
SEQUENCE:0
SUMMARY:AumShanti Yoga Rock Your Flow (Vin/Yin)
UID:4ca6ad4b-39b1-486f-b044-5e6b72825b01
URL:https://hotel.hardrock.com/daytona-beach/calendar-of-events.aspx?date=4
 /25/2026&display=event&eventid=2524040
END:VEVENT
BEGIN:VEVENT
DESCRIPTION:Rock the Beach Tribute Series\nDoors open @ 7pm\nDriven 8 - 9pm
 \nThe Dirtt 9:30 - 11pm\n\nBuy Tickets\nhttps://ROCKTHEBEACHMOTLEYCRUETRIB
 UTE2026.eventbrite.com
DTEND:20260425T230000
DTSTAMP:20260423T053427
DTSTART:20260425T190000
LOCATION:Wave Terrace - 918 N Atlantic Ave.\, Daytona Beach\, Florida\, 321
 18\, United States
SEQUENCE:0
SUMMARY:Rock The Beach - A Tribute to Motley Crue
UID:7061d16e-9010-41b9-9846-9eea6afddc45
URL:https://hotel.hardrock.com/daytona-beach/calendar-of-events.aspx?date=4
 /25/2026&display=event&eventid=2524137
END:VEVENT
BEGIN:VEVENT
DESCRIPTION:Signature Event\nAumShanti Yoga Dream On\, Stretch Long (Gentle
 )
DTEND:20260426T103000
DTSTAMP:20260423T053427
DTSTART:20260426T093000
LOCATION:Rock Royalty Terrace - 918 N Atlantic Ave.\, Daytona Beach\, Flori
 da\, 32118\, United States
SEQUENCE:0
SUMMARY:AumShanti Yoga Dream On\, Stretch Long (Gentle)
UID:c74737ef-6901-481a-b4c6-5f48f26da732
URL:https://hotel.hardrock.com/daytona-beach/calendar-of-events.aspx?date=4
 /26/2026&display=event&eventid=2524015
END:VEVENT
BEGIN:VEVENT
DESCRIPTION:Brunch Remix\nSessions Brunch Remix\n11am - 3pm\n
DTEND:20260426T150000
DTSTAMP:20260423T053427
DTSTART:20260426T110000
LOCATION:Sessions  - 918 N Atlantic Ave.\, Daytona Beach\, Florida\, 32118\
 , United States
SEQUENCE:0
SUMMARY:Vange Durst
UID:bcd92eea-b668-4234-80fa-7aa6b8e8c29f
URL:https://hotel.hardrock.com/daytona-beach/calendar-of-events.aspx?date=4
 /26/2026&display=event&eventid=2349791
END:VEVENT
BEGIN:VEVENT
DESCRIPTION:Live Music\nSessions \n7 - 10pm
DTEND:20260426T220000
DTSTAMP:20260423T053427
DTSTART:20260426T190000
LOCATION:Sessions - 918 N Atlantic Ave.\, Daytona Beach\, Florida\, 32118\,
  United States
SEQUENCE:0
SUMMARY:Lynne Gibson Duo
UID:ba79fe59-771f-48c0-9074-648ade058609
URL:https://hotel.hardrock.com/daytona-beach/calendar-of-events.aspx?date=4
 /26/2026&display=event&eventid=2325461
END:VEVENT
BEGIN:VEVENT
DESCRIPTION:Signature Event\nAumshanti Yoga Class\n
DTEND:20260427T103000
DTSTAMP:20260423T053427
DTSTART:20260427T093000
LOCATION:Rock Royalty Terrace - 918 N Atlantic Ave.\, Daytona Beach\, Flori
 da\, 32118\, United States
SEQUENCE:0
SUMMARY:AumShanti Yoga - Living on the Breath (Alignment Based)
UID:d9b667e9-06a5-4202-8505-834a662eb04c
URL:https://hotel.hardrock.com/daytona-beach/calendar-of-events.aspx?date=4
 /27/2026&display=event&eventid=2540278
END:VEVENT
BEGIN:VEVENT
DESCRIPTION:Signature Event\nSessions\n7 - 10pm
DTEND:20260427T220000
DTSTAMP:20260423T053427
DTSTART:20260427T190000
LOCATION:Sessions - 918 N Atlantic Ave.\, Daytona Beach\, Florida\, 32118\,
  United States
SEQUENCE:0
SUMMARY:Rock & Roll Bingo
UID:ad2b22fc-36ec-44f4-b4d4-9d8794e3a744
URL:https://hotel.hardrock.com/daytona-beach/calendar-of-events.aspx?date=4
 /27/2026&display=event&eventid=2540265
END:VEVENT
BEGIN:VEVENT
DESCRIPTION:Signature Event\nAumShanti Yoga (Vin/Yin) w/Lauren\nRock Royalt
 y Terrace\n9:30am - 10:30am
DTEND:20260428T103000
DTSTAMP:20260423T053427
DTSTART:20260428T093000
LOCATION:Rock Royalty Terrace - 918 N Atlantic Ave.\, Daytona Beach\, Flori
 da\, 32118\, United States
SEQUENCE:0
SUMMARY:AumShanti Yoga - Let It Be Flow (Vin/Yin) w/Lauren
UID:d0cfc0c5-1f8e-4816-b9a6-bb50939e3a6d
URL:https://hotel.hardrock.com/daytona-beach/calendar-of-events.aspx?date=4
 /28/2026&display=event&eventid=2540279
END:VEVENT
BEGIN:VEVENT
DESCRIPTION:Live Music\nSessions \n7pm - 10pm
DTEND:20260428T220000
DTSTAMP:20260423T053427
DTSTART:20260428T190000
LOCATION:Sessions  - 918 N Atlantic Ave.\, Daytona Beach\, Florida\, 32118\
 , United States
SEQUENCE:0
SUMMARY:Chuck Morel 
UID:9bdad97d-3adb-49aa-b1a7-bc857dbf7025
URL:https://hotel.hardrock.com/daytona-beach/calendar-of-events.aspx?date=4
 /28/2026&display=event&eventid=2384375
END:VEVENT
BEGIN:VEVENT
DESCRIPTION:Signature Event\nAumShanti Yoga (Gentle)\nRock Royalty Terrace\
 n9:30am - 10:30am
DTEND:20260429T103000
DTSTAMP:20260423T053427
DTSTART:20260429T093000
LOCATION:Rock Royalty Terrace - 918 N Atlantic Ave.\, Daytona Beach\, Flori
 da\, 32118\, United States
SEQUENCE:0
SUMMARY:AumShanti Yoga - Highway to OHM (Gentle)
UID:07310fa9-294f-43a0-acbd-706313635964
URL:https://hotel.hardrock.com/daytona-beach/calendar-of-events.aspx?date=4
 /29/2026&display=event&eventid=2540281
END:VEVENT
BEGIN:VEVENT
DESCRIPTION:Signature Event\nKickstart Karaoke
DTEND:20260429T220000
DTSTAMP:20260423T053427
DTSTART:20260429T190000
LOCATION:Sessions - 918 N Atlantic Ave.\, Daytona Beach\, Florida\, 32118\,
  United States
SEQUENCE:0
SUMMARY:Kickstart Karaoke
UID:4f597bc0-7ffb-4c7a-8e09-cd116aaf3096
URL:https://hotel.hardrock.com/daytona-beach/calendar-of-events.aspx?date=4
 /29/2026&display=event&eventid=2540269
END:VEVENT
BEGIN:VEVENT
DESCRIPTION:Signature Event\nAumShanti Yoga Free Your Mind Flow (Vin/Yin)\n
 Rock Royalty Terrace\n9:30am - 10:30am\n
DTEND:20260430T103000
DTSTAMP:20260423T053427
DTSTART:20260430T093000
LOCATION:Rock Royalty Terrace - 918 N Atlantic Ave.\, Daytona Beach\, Flori
 da\, 32118\, United States
SEQUENCE:0
SUMMARY:AumShanti Yoga Free Your Mind Flow (vin/Yin) 
UID:09b8c815-a2a3-4bd4-8d48-fb8416dc143a
URL:https://hotel.hardrock.com/daytona-beach/calendar-of-events.aspx?date=4
 /30/2026&display=event&eventid=2540283
END:VEVENT
BEGIN:VEVENT
DESCRIPTION:Live Music\nSessions  \n7 - 10pm\n
DTEND:20260430T220000
DTSTAMP:20260423T053427
DTSTART:20260430T190000
LOCATION:Sessions - 918 N Atlantic Ave.\, Daytona Beach\, Florida\, 32118\,
  United States
SEQUENCE:0
SUMMARY:Timmy Rivers
UID:cef7eea5-741b-4bc1-bf18-c4a7370df388
URL:https://hotel.hardrock.com/daytona-beach/calendar-of-events.aspx?date=4
 /30/2026&display=event&eventid=2325245
END:VEVENT
BEGIN:VEVENT
DESCRIPTION:Rock the Beach Tribute Series\nDoors Open @ 7pm\nFirst Wave 8 -
  9pm\nLove Song 9:30 - 11pm\n\nBuy Tickets\nhttps://ROCKTHEBEACHTHECURETRI
 BUTE2026.eventbrite.com
DTEND:20260501T230000
DTSTAMP:20260423T053427
DTSTART:20260501T190000
LOCATION:Wave Terrace - 918 N Atlantic Ave.\, Daytona Beach\, Florida\, 321
 18\, United States
SEQUENCE:0
SUMMARY:Rock The Beach - A Tribute to The Cure
UID:084268aa-6df8-4515-b499-e092d20a360e
URL:https://hotel.hardrock.com/daytona-beach/calendar-of-events.aspx?date=5
 /1/2026&display=event&eventid=2545946
END:VEVENT
BEGIN:VEVENT
DESCRIPTION:Brunch Remix\nDJ Ced Spinning your favorite vibes\n12 - 5pm
DTEND:20260502T170000
DTSTAMP:20260423T053427
DTSTART:20260502T120000
LOCATION:Sessions Terrace - 918 N Atlantic Ave.\, Daytona Beach\, Florida\,
  32118\, United States
SEQUENCE:0
SUMMARY:DJ Ced - Wilin Entertainment
UID:a1e6315c-d375-47e9-8942-c9143d3dda31
URL:https://hotel.hardrock.com/daytona-beach/calendar-of-events.aspx?date=5
 /2/2026&display=event&eventid=2384369
END:VEVENT
BEGIN:VEVENT
DESCRIPTION:Live Music\nSessions \n8pm - 11pm
DTEND:20260502T230000
DTSTAMP:20260423T053427
DTSTART:20260502T200000
LOCATION:Sessions - 918 N Atlantic Ave.\, Daytona Beach\, Florida\, 32118\,
  United States
SEQUENCE:0
SUMMARY:Tommy Mac Band
UID:dabac904-8347-423d-b2c2-e288a7d9f9a5
URL:https://hotel.hardrock.com/daytona-beach/calendar-of-events.aspx?date=5
 /2/2026&display=event&eventid=2456496
END:VEVENT
BEGIN:VEVENT
DESCRIPTION:Signature Event\nAumShanti Yoga Dream On\, Stretch Long (Gentle
 )
DTEND:20260503T103000
DTSTAMP:20260423T053427
DTSTART:20260503T093000
LOCATION:Rock Royalty Terrace - 918 N Atlantic Ave.\, Daytona Beach\, Flori
 da\, 32118\, United States
SEQUENCE:0
SUMMARY:AumShanti Yoga Dream On\, Stretch Long (Gentle)
UID:fd675458-8f75-4280-8691-1d68bd2b5e3d
URL:https://hotel.hardrock.com/daytona-beach/calendar-of-events.aspx?date=5
 /3/2026&display=event&eventid=2524014
END:VEVENT
BEGIN:VEVENT
DESCRIPTION:Brunch Remix\nSessions Brunch Remix\n11am - 3pm
DTEND:20260503T150000
DTSTAMP:20260423T053427
DTSTART:20260503T110000
LOCATION:Sessions - 918 N Atlantic Ave.\, Daytona Beach\, Florida\, 32118\,
  United States
SEQUENCE:0
SUMMARY:Les B Fine
UID:edb1c00c-552d-46c0-82c7-5c3a3b629b96
URL:https://hotel.hardrock.com/daytona-beach/calendar-of-events.aspx?date=5
 /3/2026&display=event&eventid=2545947
END:VEVENT
BEGIN:VEVENT
DESCRIPTION:Live Music\nSessions \n7 - 10pm
DTEND:20260503T220000
DTSTAMP:20260423T053427
DTSTART:20260503T190000
LOCATION:Sessions  - 918 N Atlantic Ave.\, Daytona Beach\, Florida\, 32118\
 , United States
SEQUENCE:0
SUMMARY:Thomas Watkins
UID:6d18f2eb-57c3-465a-a065-27c9ec10131b
URL:https://hotel.hardrock.com/daytona-beach/calendar-of-events.aspx?date=5
 /3/2026&display=event&eventid=2149341
END:VEVENT
BEGIN:VEVENT
DESCRIPTION:Signature Event\nSessions\n7 - 10pm
DTEND:20260504T220000
DTSTAMP:20260423T053427
DTSTART:20260504T190000
LOCATION:Sessions - 918 N Atlantic Ave.\, Daytona Beach\, Florida\, 32118\,
  United States
SEQUENCE:0
SUMMARY:Rock & Roll Bingo
UID:e4336923-64fa-43a1-9b3d-54f51c3e9bec
URL:https://hotel.hardrock.com/daytona-beach/calendar-of-events.aspx?date=5
 /4/2026&display=event&eventid=2494939
END:VEVENT
BEGIN:VEVENT
DESCRIPTION:Live Music\nSessions\n7pm - 10pm
DTEND:20260505T220000
DTSTAMP:20260423T053427
DTSTART:20260505T190000
LOCATION:Sessions Terrace - 918 N Atlantic Ave.\, Daytona Beach\, Florida\,
  32118\, United States
SEQUENCE:0
SUMMARY:Nate Utley
UID:f86f08b5-dd57-4a68-91da-243ca62a632a
URL:https://hotel.hardrock.com/daytona-beach/calendar-of-events.aspx?date=5
 /5/2026&display=event&eventid=2545950
END:VEVENT
BEGIN:VEVENT
DESCRIPTION:Signature Event\nKickstart Karaoke
DTEND:20260506T220000
DTSTAMP:20260423T053427
DTSTART:20260506T190000
LOCATION:Sessions - 918 N Atlantic Ave.\, Daytona Beach\, Florida\, 32118\,
  United States
SEQUENCE:0
SUMMARY:Kickstart Karaoke
UID:a5bc8cd4-1457-4185-afaa-c920b4e61b50
URL:https://hotel.hardrock.com/daytona-beach/calendar-of-events.aspx?date=5
 /6/2026&display=event&eventid=2463635
END:VEVENT
BEGIN:VEVENT
DESCRIPTION:Live Music\nSESSIONS\n7pm - 10pm
DTEND:20260507T220000
DTSTAMP:20260423T053427
DTSTART:20260507T190000
LOCATION:Sessions Terrace - 918 N Atlantic Ave.\, Daytona Beach\, Florida\,
  32118\, United States
SEQUENCE:0
SUMMARY:Rob Hazen
UID:96c49132-bb4b-40e4-baed-ca9d50463384
URL:https://hotel.hardrock.com/daytona-beach/calendar-of-events.aspx?date=5
 /7/2026&display=event&eventid=2545949
END:VEVENT
BEGIN:VEVENT
DESCRIPTION:Brunch Remix\nSessions Brunch Remix\n11am - 3pm\n
DTEND:20260509T150000
DTSTAMP:20260423T053427
DTSTART:20260509T110000
LOCATION:Sessions  - 918 N Atlantic Ave.\, Daytona Beach\, Florida\, 32118\
 , United States
SEQUENCE:0
SUMMARY:Thomas Watkins
UID:a75030fe-e72e-4938-a0f8-2c284c160062
URL:https://hotel.hardrock.com/daytona-beach/calendar-of-events.aspx?date=5
 /9/2026&display=event&eventid=2545948
END:VEVENT
BEGIN:VEVENT
DESCRIPTION:Live Music\nSessions\n8pm - 11pm
DTEND:20260509T230000
DTSTAMP:20260423T053427
DTSTART:20260509T200000
LOCATION:Sessions - 918 N Atlantic Ave.\, Daytona Beach\, Florida\, 32118\,
  United States
SEQUENCE:0
SUMMARY:Speed Limit 70 
UID:9a65853a-ceab-4cd7-be75-8a7d4200c628
URL:https://hotel.hardrock.com/daytona-beach/calendar-of-events.aspx?date=5
 /9/2026&display=event&eventid=1907222
END:VEVENT
BEGIN:VEVENT
DESCRIPTION:Live Music\nSessions \n7pm - 10pm
DTEND:20260510T220000
DTSTAMP:20260423T053427
DTSTART:20260510T190000
LOCATION:Sessions Terrace - 918 N Atlantic Ave.\, Daytona Beach\, Florida\,
  32118\, United States
SEQUENCE:0
SUMMARY:Rafael & Carlos - RnR Duo
UID:830190d8-88d9-4e00-81d4-7c19aa1ee903
URL:https://hotel.hardrock.com/daytona-beach/calendar-of-events.aspx?date=5
 /10/2026&display=event&eventid=2434712
END:VEVENT
BEGIN:VEVENT
DESCRIPTION:Signature Event\nSessions\n7 - 10pm
DTEND:20260511T220000
DTSTAMP:20260423T053427
DTSTART:20260511T190000
LOCATION:Sessions - 918 N Atlantic Ave.\, Daytona Beach\, Florida\, 32118\,
  United States
SEQUENCE:0
SUMMARY:Rock & Roll Bingo
UID:316023bd-ac94-4824-aea7-332be104d9a3
URL:https://hotel.hardrock.com/daytona-beach/calendar-of-events.aspx?date=5
 /11/2026&display=event&eventid=2494938
END:VEVENT
BEGIN:VEVENT
DESCRIPTION:Live Music\nSessions \n7 - 10pm\n\n
DTEND:20260512T220000
DTSTAMP:20260423T053427
DTSTART:20260512T190000
LOCATION:Sessions  - 918 N Atlantic Ave.\, Daytona Beach\, Florida\, 32118\
 , United States
SEQUENCE:0
SUMMARY:Joey Grillo
UID:c25350e9-f71b-4dbe-8c83-df7fbb516965
URL:https://hotel.hardrock.com/daytona-beach/calendar-of-events.aspx?date=5
 /12/2026&display=event&eventid=2380101
END:VEVENT
BEGIN:VEVENT
DESCRIPTION:Signature Event\nTwisted Trivia
DTEND:20260513T220000
DTSTAMP:20260423T053427
DTSTART:20260513T190000
LOCATION:Sessions - 918 N Atlantic Ave.\, Daytona Beach\, Florida\, 32118\,
  United States
SEQUENCE:0
SUMMARY:Twisted Trivia w/Will Hammer
UID:746fb050-889d-4942-a38e-62b742739b32
URL:https://hotel.hardrock.com/daytona-beach/calendar-of-events.aspx?date=5
 /13/2026&display=event&eventid=2546024
END:VEVENT
BEGIN:VEVENT
DESCRIPTION:Live Music\nSessions\n7 - 10pm\n
DTEND:20260514T220000
DTSTAMP:20260423T053427
DTSTART:20260514T190000
LOCATION:Sessions Terrace - 918 N Atlantic Ave.\, Daytona Beach\, Florida\,
  32118\, United States
SEQUENCE:0
SUMMARY:Psycoustic Duo
UID:88f3b1fb-3850-4711-99da-ef4c724d7d2e
URL:https://hotel.hardrock.com/daytona-beach/calendar-of-events.aspx?date=5
 /14/2026&display=event&eventid=2463638
END:VEVENT
BEGIN:VEVENT
DESCRIPTION:Brunch Remix\nDJ Ced Spinning your favorite vibes\n12 - 5pm
DTEND:20260516T170000
DTSTAMP:20260423T053427
DTSTART:20260516T120000
LOCATION:Sessions Terrace - 918 N Atlantic Ave.\, Daytona Beach\, Florida\,
  32118\, United States
SEQUENCE:0
SUMMARY:DJ Ced - Wilin Entertainment
UID:f8d98415-6991-46d9-af95-f8fd58bd6a7c
URL:https://hotel.hardrock.com/daytona-beach/calendar-of-events.aspx?date=5
 /16/2026&display=event&eventid=2546019
END:VEVENT
BEGIN:VEVENT
DESCRIPTION:Brunch Remix\nSessions Brunch Remix\n11am - 3pm
DTEND:20260517T150000
DTSTAMP:20260423T053427
DTSTART:20260517T110000
LOCATION:Sessions - 918 N Atlantic Ave.\, Daytona Beach\, Florida\, 32118\,
  United States
SEQUENCE:0
SUMMARY:Muddy Marshall
UID:47f619d4-be75-42a2-93f4-95eae612b131
URL:https://hotel.hardrock.com/daytona-beach/calendar-of-events.aspx?date=5
 /17/2026&display=event&eventid=2516500
END:VEVENT
BEGIN:VEVENT
DESCRIPTION:Live Music\nSessions\n7pm - 10pm
DTEND:20260517T220000
DTSTAMP:20260423T053427
DTSTART:20260517T190000
LOCATION:Sessions Terrace - 918 N Atlantic Ave.\, Daytona Beach\, Florida\,
  32118\, United States
SEQUENCE:0
SUMMARY:Rusty Wilmot
UID:7092ef2c-80d2-46d8-8b9a-137c38d70254
URL:https://hotel.hardrock.com/daytona-beach/calendar-of-events.aspx?date=5
 /17/2026&display=event&eventid=2316479
END:VEVENT
BEGIN:VEVENT
DESCRIPTION:Signature Event\nSessions\n7 - 10pm
DTEND:20260518T220000
DTSTAMP:20260423T053427
DTSTART:20260518T190000
LOCATION:Sessions - 918 N Atlantic Ave.\, Daytona Beach\, Florida\, 32118\,
  United States
SEQUENCE:0
SUMMARY:Rock & Roll Bingo
UID:26334214-291a-4e0f-acad-7b97e9048cd8
URL:https://hotel.hardrock.com/daytona-beach/calendar-of-events.aspx?date=5
 /18/2026&display=event&eventid=2546026
END:VEVENT
BEGIN:VEVENT
DESCRIPTION:Live Music\nSessions\n7 - 10pm
DTEND:20260519T220000
DTSTAMP:20260423T053427
DTSTART:20260519T190000
LOCATION:Sessions - 918 N Atlantic Ave.\, Daytona Beach\, Florida\, 32118\,
  United States
SEQUENCE:0
SUMMARY:Daniel Jude Duo
UID:17d85b94-eb4f-4d02-9678-75efd68812fa
URL:https://hotel.hardrock.com/daytona-beach/calendar-of-events.aspx?date=5
 /19/2026&display=event&eventid=2456443
END:VEVENT
BEGIN:VEVENT
DESCRIPTION:Signature Event\nKickstart Karaoke
DTEND:20260520T220000
DTSTAMP:20260423T053427
DTSTART:20260520T190000
LOCATION:Sessions - 918 N Atlantic Ave.\, Daytona Beach\, Florida\, 32118\,
  United States
SEQUENCE:0
SUMMARY:Kickstart Karaoke
UID:5587f771-49c9-47ec-be01-755f3bd98973
URL:https://hotel.hardrock.com/daytona-beach/calendar-of-events.aspx?date=5
 /20/2026&display=event&eventid=2495675
END:VEVENT
BEGIN:VEVENT
DESCRIPTION:Live Music\nSessions\n7 - 10pm\n\n\nBuy Tickets\nhttps://THANKS
 GIVINGDAYFUFFET2024.eventbrite.com
DTEND:20260521T220000
DTSTAMP:20260423T053427
DTSTART:20260521T190000
LOCATION:Sessions - 918 N Atlantic Ave.\, Daytona Beach\, Florida\, 32118\,
  United States
SEQUENCE:0
SUMMARY:Just Peachy Duo
UID:901aba39-61ad-4dd1-a827-bdd9df3dc2cc
URL:https://hotel.hardrock.com/daytona-beach/calendar-of-events.aspx?date=5
 /21/2026&display=event&eventid=2316476
END:VEVENT
BEGIN:VEVENT
DESCRIPTION:Brunch Remix\nDJ Ced Spinning your favorite vibes\n12 - 5pm
DTEND:20260523T170000
DTSTAMP:20260423T053427
DTSTART:20260523T120000
LOCATION:Sessions Terrace - 918 N Atlantic Ave.\, Daytona Beach\, Florida\,
  32118\, United States
SEQUENCE:0
SUMMARY:DJ Ced - Wilin Entertainment
UID:f3d74421-e86a-4023-a6fd-9ac645e97719
URL:https://hotel.hardrock.com/daytona-beach/calendar-of-events.aspx?date=5
 /23/2026&display=event&eventid=2546020
END:VEVENT
BEGIN:VEVENT
DESCRIPTION:Brunch Remix\nDJ Ced Spinning your favorite vibes\n12 - 5pm
DTEND:20260524T170000
DTSTAMP:20260423T053427
DTSTART:20260524T120000
LOCATION:Sessions Terrace - 918 N Atlantic Ave.\, Daytona Beach\, Florida\,
  32118\, United States
SEQUENCE:0
SUMMARY:DJ Ced - Wilin Entertainment
UID:f0636f23-2815-487c-8781-10fc7faa2b50
URL:https://hotel.hardrock.com/daytona-beach/calendar-of-events.aspx?date=5
 /24/2026&display=event&eventid=2546022
END:VEVENT
BEGIN:VEVENT
DESCRIPTION:Live Music\nSessions \n7 - 10pm
DTEND:20260524T220000
DTSTAMP:20260423T053427
DTSTART:20260524T190000
LOCATION:Sessions - 918 N Atlantic Ave.\, Daytona Beach\, Florida\, 32118\,
  United States
SEQUENCE:0
SUMMARY:Nick Hildyard
UID:1a2f1e7b-1b39-44fb-8677-a697aa439386
URL:https://hotel.hardrock.com/daytona-beach/calendar-of-events.aspx?date=5
 /24/2026&display=event&eventid=2380103
END:VEVENT
BEGIN:VEVENT
DESCRIPTION:Brunch Remix\nDJ Ced Spinning your favorite vibes\n12 - 5pm
DTEND:20260525T170000
DTSTAMP:20260423T053427
DTSTART:20260525T120000
LOCATION:Sessions Terrace - 918 N Atlantic Ave.\, Daytona Beach\, Florida\,
  32118\, United States
SEQUENCE:0
SUMMARY:DJ Ced - Wilin Entertainment
UID:6eccd775-df6f-43e2-872c-cda11f1c0097
URL:https://hotel.hardrock.com/daytona-beach/calendar-of-events.aspx?date=5
 /25/2026&display=event&eventid=2546023
END:VEVENT
BEGIN:VEVENT
DESCRIPTION:Signature Event\nSessions\n7 - 10pm
DTEND:20260525T220000
DTSTAMP:20260423T053427
DTSTART:20260525T190000
LOCATION:Sessions - 918 N Atlantic Ave.\, Daytona Beach\, Florida\, 32118\,
  United States
SEQUENCE:0
SUMMARY:Rock & Roll Bingo
UID:6aaf883e-b43b-4a1b-9072-e05952670c8d
URL:https://hotel.hardrock.com/daytona-beach/calendar-of-events.aspx?date=5
 /25/2026&display=event&eventid=2520639
END:VEVENT
BEGIN:VEVENT
DESCRIPTION:Live Music\nSessions \n7pm - 10pm
DTEND:20260526T220000
DTSTAMP:20260423T053427
DTSTART:20260526T190000
LOCATION:Sessions  - 918 N Atlantic Ave.\, Daytona Beach\, Florida\, 32118\
 , United States
SEQUENCE:0
SUMMARY:Chuck Morel 
UID:2a4c3dcb-cb55-4c81-81c4-ea61b8561b6c
URL:https://hotel.hardrock.com/daytona-beach/calendar-of-events.aspx?date=5
 /26/2026&display=event&eventid=2546028
END:VEVENT
BEGIN:VEVENT
DESCRIPTION:Signature Event\nTwisted Trivia
DTEND:20260527T220000
DTSTAMP:20260423T053427
DTSTART:20260527T190000
LOCATION:Sessions - 918 N Atlantic Ave.\, Daytona Beach\, Florida\, 32118\,
  United States
SEQUENCE:0
SUMMARY:Twisted Trivia w/Will Hammer
UID:fdbd71a1-2ad7-4332-996f-f383e7dd4b48
URL:https://hotel.hardrock.com/daytona-beach/calendar-of-events.aspx?date=5
 /27/2026&display=event&eventid=2546025
END:VEVENT
BEGIN:VEVENT
DESCRIPTION:Live Music\nSessions \n7 - 10pm\n
DTEND:20260528T220000
DTSTAMP:20260423T053427
DTSTART:20260528T190000
LOCATION:Sessions - 918 N Atlantic Ave.\, Daytona Beach\, Florida\, 32118\,
  United States
SEQUENCE:0
SUMMARY:Esh X Schief Duo
UID:34fcc05c-10eb-4a11-a34b-d450e7d62c91
URL:https://hotel.hardrock.com/daytona-beach/calendar-of-events.aspx?date=5
 /28/2026&display=event&eventid=2434710
END:VEVENT
BEGIN:VEVENT
DESCRIPTION:Brunch Remix\nDJ Ced Spinning your favorite vibes\n12 - 5pm
DTEND:20260530T170000
DTSTAMP:20260423T053427
DTSTART:20260530T120000
LOCATION:Sessions Terrace - 918 N Atlantic Ave.\, Daytona Beach\, Florida\,
  32118\, United States
SEQUENCE:0
SUMMARY:DJ Ced - Wilin Entertainment
UID:ca77e8e1-4899-419b-a7cb-e68b6ab970eb
URL:https://hotel.hardrock.com/daytona-beach/calendar-of-events.aspx?date=5
 /30/2026&display=event&eventid=2546021
END:VEVENT
BEGIN:VEVENT
DESCRIPTION:Live Music\nSessions\n7pm - 10pm
DTEND:20260531T220000
DTSTAMP:20260423T053427
DTSTART:20260531T190000
LOCATION:Sessions Terrace - 918 N Atlantic Ave.\, Daytona Beach\, Florida\,
  32118\, United States
SEQUENCE:0
SUMMARY:Scott Davidson
UID:39d1f72d-3d4e-4ca7-9598-7a0b632efeee
URL:https://hotel.hardrock.com/daytona-beach/calendar-of-events.aspx?date=5
 /31/2026&display=event&eventid=2149342
END:VEVENT
BEGIN:VEVENT
DESCRIPTION:Live Music\nSESSIONS\n7pm - 10pm
DTEND:20260604T220000
DTSTAMP:20260423T053427
DTSTART:20260604T190000
LOCATION:Sessions Terrace - 918 N Atlantic Ave.\, Daytona Beach\, Florida\,
  32118\, United States
SEQUENCE:0
SUMMARY:Rob Hazen
UID:1a3b8a10-4afd-485c-aab0-70f0ad3d05ea
URL:https://hotel.hardrock.com/daytona-beach/calendar-of-events.aspx?date=6
 /4/2026&display=event&eventid=2149351
END:VEVENT
BEGIN:VEVENT
DESCRIPTION:Live Music\nSessions\n7pm - 10pm
DTEND:20260611T220000
DTSTAMP:20260423T053427
DTSTART:20260611T190000
LOCATION:Sessions Terrace - 918 N Atlantic Ave.\, Daytona Beach\, Florida\,
  32118\, United States
SEQUENCE:0
SUMMARY:Rusty Wilmot
UID:0f99d5f0-f33b-4285-9095-f3b1d9afefce
URL:https://hotel.hardrock.com/daytona-beach/calendar-of-events.aspx?date=6
 /11/2026&display=event&eventid=2426567
END:VEVENT
BEGIN:VEVENT
DESCRIPTION:Live Music\nSessions\n7 - 10pm
DTEND:20260616T220000
DTSTAMP:20260423T053427
DTSTART:20260616T190000
LOCATION:Sessions - 918 N Atlantic Ave.\, Daytona Beach\, Florida\, 32118\,
  United States
SEQUENCE:0
SUMMARY:The Essentials Duo
UID:ceb41c9b-23a8-4628-a243-1d5e37c3a913
URL:https://hotel.hardrock.com/daytona-beach/calendar-of-events.aspx?date=6
 /16/2026&display=event&eventid=2359118
END:VEVENT
BEGIN:VEVENT
DESCRIPTION:Signature Event\nNoches de San Juan Fest en Daytona Beach\n\nBu
 y Tickets\nhttps://www.tickeri.com/es/events/bpbmzt0izs8h/noches-de-san-ju
 an-fest-en-daytona-beach-fl
DTEND:20260620T233000
DTSTAMP:20260423T053427
DTSTART:20260620T110000
LOCATION:Wave Terrace - 918 N Atlantic Ave.\, Daytona Beach\, Florida\, 321
 18\, United States
SEQUENCE:0
SUMMARY:Noches de San Juan Fest en Daytona Beach
UID:2e58ddbc-eff2-4777-bd64-735bdd690d45
URL:https://hotel.hardrock.com/daytona-beach/calendar-of-events.aspx?date=6
 /20/2026&display=event&eventid=2535463
END:VEVENT
BEGIN:VEVENT
DESCRIPTION:Live Music\nSessions\n7 - 10pm
DTEND:20260621T220000
DTSTAMP:20260423T053427
DTSTART:20260621T190000
LOCATION:Sessions - 918 N Atlantic Ave.\, Daytona Beach\, Florida\, 32118\,
  United States
SEQUENCE:0
SUMMARY:Pinedas Trio
UID:6296f142-bb4e-4579-93da-41285f13dd55
URL:https://hotel.hardrock.com/daytona-beach/calendar-of-events.aspx?date=6
 /21/2026&display=event&eventid=2494940
END:VEVENT
BEGIN:VEVENT
DESCRIPTION:Live Music\nWave Terrace\n8pm - 11pm
DTEND:20260704T230000
DTSTAMP:20260423T053427
DTSTART:20260704T200000
LOCATION:Wave Terrace - 918 N Atlantic Ave.\, Daytona Beach\, Florida\, 321
 18\, United States
SEQUENCE:0
SUMMARY:Tommy Mac Band
UID:2a4fc689-86c7-41e2-bfe5-464d848a6f39
URL:https://hotel.hardrock.com/daytona-beach/calendar-of-events.aspx?date=7
 /4/2026&display=event&eventid=2394368
END:VEVENT
BEGIN:VEVENT
DESCRIPTION:Live Music\nWave Terrace\n8pm - 11pm
DTEND:20260710T230000
DTSTAMP:20260423T053427
DTSTART:20260710T200000
LOCATION:Wave Terrace - 918 N Atlantic Ave.\, Daytona Beach\, Florida\, 321
 18\, United States
SEQUENCE:0
SUMMARY:Soulfire Band
UID:ef5208db-408f-4291-83e9-49d8195debb3
URL:https://hotel.hardrock.com/daytona-beach/calendar-of-events.aspx?date=7
 /10/2026&display=event&eventid=2139356
END:VEVENT
BEGIN:VEVENT
DESCRIPTION:Live Music\nSessions \n7 - 10pm\n\nBuy Tickets\nhttps://THANKSG
 IVINGDAYFUFFET2024.eventbrite.com
DTEND:20260714T220000
DTSTAMP:20260423T053427
DTSTART:20260714T190000
LOCATION:Sessions - 918 N Atlantic Ave.\, Daytona Beach\, Florida\, 32118\,
  United States
SEQUENCE:0
SUMMARY:Just Peachy Duo
UID:0108341a-fce5-48cc-b163-eef869b0292e
URL:https://hotel.hardrock.com/daytona-beach/calendar-of-events.aspx?date=7
 /14/2026&display=event&eventid=2495674
END:VEVENT
END:VCALENDAR
