BEGIN:VCALENDAR
VERSION:2.0
PRODID:-//ddaysoftware.com//NONSGML DDay.iCal 1.0//EN
BEGIN:VEVENT
DESCRIPTION:Music\nCome to our GMT+1 lobby bar and enjoy the best live musi
 c from JVEL\,Saralorenzzo & Rous
DTEND:20260424T210000
DTSTAMP:20260423T235402
DTSTART:20260424T190000
LOCATION:GMT+1 - Ronda de Atocha 17\, Madrid\, 28012\, Spain
SEQUENCE:0
SUMMARY:CONCERT ROAR
UID:9bfc6d52-8494-4a08-a8a6-d31111b09caa
URL:https://hotel.hardrock.com/madrid/calendar-of-events.aspx?date=4/24/202
 6&display=event&eventid=2552277
END:VEVENT
BEGIN:VEVENT
DESCRIPTION:Music\nThe best music awaits you with Oscaar at Hard Rock Hotel
  Madrid.
DTEND:20260424T220000
DTSTAMP:20260423T235402
DTSTART:20260424T200000
LOCATION:GMT+1 - Ronda de Atocha 17\, Madrid\, 28012\, Spain
SEQUENCE:0
SUMMARY:DJ SET: OOSCAR
UID:4fc773de-d3de-4b72-a84d-7d255d1b32ef
URL:https://hotel.hardrock.com/madrid/calendar-of-events.aspx?date=4/24/202
 6&display=event&eventid=2543027
END:VEVENT
BEGIN:VEVENT
DESCRIPTION:Food\nDiscover The American Way of Brunch at Hard Rock Hotel Ma
 drid.\n\nRESERVAR\nhttps://www.covermanager.com/reservation/module_restaur
 ant/restaurante-hardrockcafe-roxygarden/spanish
DTEND:20260425T160000
DTSTAMP:20260423T235402
DTSTART:20260425T123000
LOCATION:Sessions Restaurant - Ronda de Atocha 17\, Madrid\, 28012\, Spain
SEQUENCE:0
SUMMARY:THE AMERICAN WAY OF BRUNCH
UID:86b5c949-e36f-472b-a748-f9bdaf354ede
URL:https://hotel.hardrock.com/madrid/calendar-of-events.aspx?date=4/25/202
 6&display=event&eventid=2539644
END:VEVENT
BEGIN:VEVENT
DESCRIPTION:Music\nThe best music awaits you with Bárbara García DJ at Hard
  Rock Hotel Madrid. 
DTEND:20260425T220000
DTSTAMP:20260423T235402
DTSTART:20260425T200000
LOCATION:GMT+1 - Ronda de Atocha 17\, Madrid\, 28012\, Spain
SEQUENCE:0
SUMMARY:DJ SET: BÁRBARA GARCÍA
UID:eb3ab016-2594-4fe1-a872-f77d4e3cc157
URL:https://hotel.hardrock.com/madrid/calendar-of-events.aspx?date=4/25/202
 6&display=event&eventid=2543032
END:VEVENT
BEGIN:VEVENT
DESCRIPTION:Food\nDiscover The American Way of Brunch at Hard Rock Hotel Ma
 drid.\n\nRESERVAR\nhttps://www.covermanager.com/reservation/module_restaur
 ant/restaurante-hardrockcafe-roxygarden/spanish
DTEND:20260426T160000
DTSTAMP:20260423T235402
DTSTART:20260426T123000
LOCATION:Sessions Restaurant - Ronda de Atocha 17\, Madrid\, 28012\, Spain
SEQUENCE:0
SUMMARY:THE AMERICAN WAY OF BRUNCH
UID:4a27861f-fcdc-48d0-8d47-e82ef7df9502
URL:https://hotel.hardrock.com/madrid/calendar-of-events.aspx?date=4/26/202
 6&display=event&eventid=2539645
END:VEVENT
END:VCALENDAR
