BEGIN:VCALENDAR
VERSION:2.0
PRODID:-//ddaysoftware.com//NONSGML DDay.iCal 1.0//EN
BEGIN:VEVENT
DESCRIPTION:Sports\nZENVIBES
DTEND:20260423T104500
DTSTAMP:20260421T060508
DTSTART:20260423T100000
LOCATION:HRH-Marbella - Urb. Nueva Andalucía\, s/n\, Marbella\, Marbella\, 
 29660\, Spain
SEQUENCE:0
SUMMARY:ZENVIBES
UID:c3813620-7f03-40e0-89b9-3b02e6297922
URL:https://hotel.hardrock.com/marbella/fr/divertissement.aspx?date=4/23/20
 26&display=event&eventid=2539398
END:VEVENT
BEGIN:VEVENT
DESCRIPTION:Musique\nDécouvrez la magie de la musique dans sa forme la plus
  pure avec "Akustiko" - notre expérience unique de session instrumentale !
DTEND:20260423T213000
DTSTAMP:20260421T060508
DTSTART:20260423T193000
LOCATION:HRH-Marbella - Urb. Nueva Andalucía\, s/n\, Marbella\, Marbella\, 
 29660\, Spain
SEQUENCE:0
SUMMARY:Akústiko 
UID:857a8e64-af9b-4d66-91a4-9fb02ded7fd7
URL:https://hotel.hardrock.com/marbella/fr/divertissement.aspx?date=4/23/20
 26&display=event&eventid=2539387
END:VEVENT
BEGIN:VEVENT
DESCRIPTION:Sports\nZENVIBES
DTEND:20260424T104500
DTSTAMP:20260421T060508
DTSTART:20260424T100000
LOCATION:HRH-Marbella - Urb. Nueva Andalucía\, s/n\, Marbella\, Marbella\, 
 29660\, Spain
SEQUENCE:0
SUMMARY:ZENVIBES
UID:7bb60d1a-58b1-4a7a-a4c9-4015ab373e5e
URL:https://hotel.hardrock.com/marbella/fr/divertissement.aspx?date=4/24/20
 26&display=event&eventid=2539403
END:VEVENT
BEGIN:VEVENT
DESCRIPTION:Musique\nPréparez-vous à vivre une expérience épique dans notre
  piscine avec Rockmania.
DTEND:20260424T170000
DTSTAMP:20260421T060508
DTSTART:20260424T130000
LOCATION:HRH-Marbella - Urb. Nueva Andalucía\, s/n\, Marbella\, Marbella\, 
 29660\, Spain
SEQUENCE:0
SUMMARY:Rockmania
UID:866213d0-568f-46ba-86fb-d67b1713a9da
URL:https://hotel.hardrock.com/marbella/fr/divertissement.aspx?date=4/24/20
 26&display=event&eventid=2539383
END:VEVENT
BEGIN:VEVENT
DESCRIPTION:Musique\nLaissez-vous envelopper par la musique de nos soirées 
 "Electric Feel" et vivez une expérience amusante et différente\, avec une 
 touche unique de pop-rock. 
DTEND:20260424T213000
DTSTAMP:20260421T060508
DTSTART:20260424T193000
LOCATION:HRH-Marbella - Urb. Nueva Andalucía\, s/n\, Marbella\, Marbella\, 
 29660\, Spain
SEQUENCE:0
SUMMARY:Electric Feel
UID:7e0a924a-e127-42da-aa88-6e86bc35856f
URL:https://hotel.hardrock.com/marbella/fr/divertissement.aspx?date=4/24/20
 26&display=event&eventid=2539393
END:VEVENT
BEGIN:VEVENT
DESCRIPTION:Musique\n Au Velvet Jazz Night\, la musique et la mixologie se 
 rencontrent pour une expérience unique.
DTEND:20260424T213000
DTSTAMP:20260421T060508
DTSTART:20260424T193000
LOCATION:HRH-Marbella - Urb. Nueva Andalucía\, s/n\, Marbella\, Marbella\, 
 29660\, Spain
SEQUENCE:0
SUMMARY:Velvet Jazz Night
UID:9530b730-f09f-4aa3-b853-e0dc8309a555
URL:https://hotel.hardrock.com/marbella/fr/divertissement.aspx?date=4/24/20
 26&display=event&eventid=2539379
END:VEVENT
BEGIN:VEVENT
DESCRIPTION:Musique\nLes Jours d'Été\, profitez du soleil de Marbella dans 
 notre piscine Eden
DTEND:20260425T170000
DTSTAMP:20260421T060508
DTSTART:20260425T130000
LOCATION:HRH-Marbella - Urb. Nueva Andalucía\, s/n\, Marbella\, Marbella\, 
 29660\, Spain
SEQUENCE:0
SUMMARY:Float&Flow
UID:8fe0ec9b-553d-49ef-8189-83a7cd64eb09
URL:https://hotel.hardrock.com/marbella/fr/divertissement.aspx?date=4/25/20
 26&display=event&eventid=2539381
END:VEVENT
BEGIN:VEVENT
DESCRIPTION:Musique\nLa session DJ la plus cool est à Hard Rock Hotel Marbe
 lla ! 
DTEND:20260425T193000
DTSTAMP:20260421T060508
DTSTART:20260425T173000
LOCATION:HRH-Marbella - Urb. Nueva Andalucía\, s/n\, Marbella\, Marbella\, 
 29660\, Spain
SEQUENCE:0
SUMMARY:Cool Session
UID:cc7dc215-9451-499a-9896-af6cdb445361
URL:https://hotel.hardrock.com/marbella/fr/divertissement.aspx?date=4/25/20
 26&display=event&eventid=2539374
END:VEVENT
BEGIN:VEVENT
DESCRIPTION:Musique\nLaissez-vous envelopper par la musique de nos soirées 
 "Electric Feel" et vivez une expérience amusante et différente\, avec une 
 touche unique de pop-rock. 
DTEND:20260425T213000
DTSTAMP:20260421T060508
DTSTART:20260425T193000
LOCATION:HRH-Marbella - Urb. Nueva Andalucía\, s/n\, Marbella\, Marbella\, 
 29660\, Spain
SEQUENCE:0
SUMMARY:Electric Feel
UID:9e112a32-8707-4439-b21d-462c8573b436
URL:https://hotel.hardrock.com/marbella/fr/divertissement.aspx?date=4/25/20
 26&display=event&eventid=2539394
END:VEVENT
BEGIN:VEVENT
DESCRIPTION:Sports\nZENVIBES
DTEND:20260426T104500
DTSTAMP:20260421T060508
DTSTART:20260426T100000
LOCATION:HRH-Marbella - Urb. Nueva Andalucía\, s/n\, Marbella\, Marbella\, 
 29660\, Spain
SEQUENCE:0
SUMMARY:ZENVIBES
UID:648e61e3-7be0-4751-8ded-1951697a9fcc
URL:https://hotel.hardrock.com/marbella/fr/divertissement.aspx?date=4/26/20
 26&display=event&eventid=2539410
END:VEVENT
BEGIN:VEVENT
DESCRIPTION:Musique\nDécouvrez la magie de la musique dans sa forme la plus
  pure avec "Akustiko" - notre expérience unique de session instrumentale !
DTEND:20260426T213000
DTSTAMP:20260421T060508
DTSTART:20260426T193000
LOCATION:HRH-Marbella - Urb. Nueva Andalucía\, s/n\, Marbella\, Marbella\, 
 29660\, Spain
SEQUENCE:0
SUMMARY:Akústiko 
UID:b9e6d361-290c-4c1c-a434-24d04eb34db3
URL:https://hotel.hardrock.com/marbella/fr/divertissement.aspx?date=4/26/20
 26&display=event&eventid=2539389
END:VEVENT
BEGIN:VEVENT
DESCRIPTION:Sports\nZENVIBES
DTEND:20260430T104500
DTSTAMP:20260421T060508
DTSTART:20260430T100000
LOCATION:HRH-Marbella - Urb. Nueva Andalucía\, s/n\, Marbella\, Marbella\, 
 29660\, Spain
SEQUENCE:0
SUMMARY:ZENVIBES
UID:70a3e457-75ee-48fe-b94a-39e25fc83dbd
URL:https://hotel.hardrock.com/marbella/fr/divertissement.aspx?date=4/30/20
 26&display=event&eventid=2539399
END:VEVENT
BEGIN:VEVENT
DESCRIPTION:Musique\nDécouvrez la magie de la musique dans sa forme la plus
  pure avec "Akustiko" - notre expérience unique de session instrumentale !
DTEND:20260430T213000
DTSTAMP:20260421T060508
DTSTART:20260430T193000
LOCATION:HRH-Marbella - Urb. Nueva Andalucía\, s/n\, Marbella\, Marbella\, 
 29660\, Spain
SEQUENCE:0
SUMMARY:Akústiko 
UID:8487415f-848e-46c1-853b-013fb216e381
URL:https://hotel.hardrock.com/marbella/fr/divertissement.aspx?date=4/30/20
 26&display=event&eventid=2539388
END:VEVENT
END:VCALENDAR
