BEGIN:VCALENDAR
VERSION:2.0
PRODID:-//ddaysoftware.com//NONSGML DDay.iCal 1.0//EN
BEGIN:VEVENT
DESCRIPTION:On Property\nJoin us at See The Show and enjoy the incredible M
 ichael Jackson show.
DTEND:20260424T211500
DTSTAMP:20260424T063020
DTSTART:20260424T203000
LOCATION:Hard Rock Hotel Riviera Maya - Km 72\, Carretera Cancun-Chetumal\,
  Riviera Maya\, Quintana Roo\, 77710\, Mexico
SEQUENCE:0
SUMMARY:🕴 Michael Jackson Show
UID:382aba30-60a4-4397-98f6-5bdd7fb37b8b
URL:https://hotel.hardrock.com/riviera-maya/events-calendar.aspx?date=4/24/
 2026&display=event&eventid=1172902
END:VEVENT
BEGIN:VEVENT
DESCRIPTION:On Property\nCircus show located at See The Show.
DTEND:20260425T211500
DTSTAMP:20260424T063020
DTSTART:20260425T203000
LOCATION:Hard Rock Hotel Riviera Maya - Km 72\, Carretera Cancun-Chetumal\,
  Riviera Maya\, Quintana Roo\, 77710\, Mexico
SEQUENCE:0
SUMMARY:🎪 Circus Show
UID:95df0c65-f266-42bb-8cfb-abfe03c3c38b
URL:https://hotel.hardrock.com/riviera-maya/events-calendar.aspx?date=4/25/
 2026&display=event&eventid=2448315
END:VEVENT
BEGIN:VEVENT
DESCRIPTION:Events and Festivals\nAn event full of Mexican culture located 
 at See The Show.
DTEND:20260426T211500
DTSTAMP:20260424T063020
DTSTART:20260426T203000
LOCATION:Hard Rock Hotel Riviera Maya - Km 72\, Carretera Cancun-Chetumal\,
  Riviera Maya\, Quintana Roo\, 77710\, Mexico
SEQUENCE:0
SUMMARY:🎉 Mexican Folklore
UID:78169de4-d77c-449a-87be-8282052fb2ca
URL:https://hotel.hardrock.com/riviera-maya/events-calendar.aspx?date=4/26/
 2026&display=event&eventid=1619938
END:VEVENT
END:VCALENDAR
