BEGIN:VCALENDAR
VERSION:2.0
PRODID:-//ddaysoftware.com//NONSGML DDay.iCal 1.0//EN
BEGIN:VEVENT
DESCRIPTION:On Property\nVIVA MEXICO! Come join the celebration and enjoy a
  truly Mexican night! 
DTEND:20260424T220000
DTSTAMP:20260424T063019
DTSTART:20260424T210000
LOCATION:Hard Rock Hotel Vallarta - Paseo de los Cocoteros No. 19\, Nuevo V
 allarta\, Nayarit\, C.P. 63735\, Mexico
SEQUENCE:0
SUMMARY:🎉  Viva Mexico Show
UID:7217e730-e4ba-4c41-9003-3e497c4876a8
URL:https://hotel.hardrock.com/vallarta/calendar-of-events.aspx?date=4/24/2
 026&display=event&eventid=2137931
END:VEVENT
BEGIN:VEVENT
DESCRIPTION:Shows/Performances\nAn extraordinary rock band performance!
DTEND:20260425T220000
DTSTAMP:20260424T063019
DTSTART:20260425T210000
LOCATION:Hard Rock Hotel Vallarta - Paseo de los Cocoteros No. 19\, Nuevo V
 allarta\, Nayarit\, C.P. 63735\, Mexico
SEQUENCE:0
SUMMARY:🎸 Rock Concert
UID:9e570e3e-68ca-4754-aee4-bb9fb17644c8
URL:https://hotel.hardrock.com/vallarta/calendar-of-events.aspx?date=4/25/2
 026&display=event&eventid=1653160
END:VEVENT
BEGIN:VEVENT
DESCRIPTION:Shows/Performances\nTribute to Rock Legend at See The Show
DTEND:20260426T220000
DTSTAMP:20260424T063019
DTSTART:20260426T210000
LOCATION:Hard Rock Hotel Vallarta - Paseo de los Cocoteros No. 19\, Nuevo V
 allarta\, Nayarit\, C.P. 63735\, Mexico
SEQUENCE:0
SUMMARY:💿 Elvis Presley Tribute
UID:2120bec7-b289-4316-98f0-d8b217451d78
URL:https://hotel.hardrock.com/vallarta/calendar-of-events.aspx?date=4/26/2
 026&display=event&eventid=2477872
END:VEVENT
END:VCALENDAR
